Workbook

Sheet Summary
A1: B U D G E T S U M M A R Y
A2: Economic and Workforce Development Department, City of Los Angeles
A3: Contractor: | B3: Community Partners for Los Angeles Food Policy Council
A4: Contract No.: | I4: Contact Name: | J4: Lingling Staples
A5: Program: | B5: Healthy Markets LA Program | F5: Amendment No.: | G5: 0 | I5: Telephone No.: | J5: (213) 346-3261
A6: Funding Stream: | B6: Community Development Block Grant (CDBG) | F6: Contract Period: | G6: 10/01/2026 - 9/30/2027 | I6: Fax No.: | J6: N/A
A7: Contract Amount: | B7: 500000 | I7: E-mail Address: | J7: lstaples@communitypartners.org
A10: Schedule of Costs
D11: CITY SHARE
A12: Cost Classification | H12: Non-Federal | I12: Leveraged | J12: Total
D13: Total | G13: Program | H13: Matching | I13: Training | J13: Estimated
A14: No. | B14: Name | D14: City | E14: Admin | F14: Program | G14: Income | H14: Share | I14: Resources | J14: Costs
A15: 1000 | B15: PERSONNEL COSTS | D15: =E15+F15 -> 0 | F15: ='Detail (2)'!E20 -> 0 | J15: =D15+G15+H15+I15 -> 0
A16: 2000 | B16: OTHER COSTS | D16: =E16+F16 -> 0 | F16: ='Detail (2)'!E31 -> 0 | J16: =D16+G16+H16+I16 -> 0
A17: 2100 | B17: PARTICIPANT-RELATED COSTS | D17: =E17+F17 -> 0 | F17: ='Detail (2)'!E35 -> 0 | J17: =D17+G17+H17+I17 -> 0
A18: 2200 | B18: SUBCONTRACTOR(S) COSTS | D18: =E18+F18 -> 0 | F18: ='Detail (2)'!E39 -> 0 | J18: =D18+G18+H18+I18 -> 0
A19: 3000 | B19: FURNITURE & EQUIPMENT | D19: =E19+F19 -> 0 | F19: ='Detail (2)'!E43 -> 0 | J19: =D19+G19+H19+I19 -> 0
A20: 4000 | B20: INDIRECT COSTS | D20: =E20+F20 -> 0 | F20: ='Detail (2)'!E47 -> 0 | J20: =D20+G20+H20+I20 -> 0
A21: 5000 | B21: CAPITAL COSTS | D21: =E21+F21 -> 0 | F21: ='Detail (2)'!E50 -> 0 | J21: =D21+G21+H21+I21 -> 0
B22: T O T A L C O S T S | D22: =SUM(D15:D21) -> 0 | E22: =SUM(E15:E21) -> 0 | F22: =SUM(F15:F21) -> 0 | G22: =SUM(G15:G21) -> 0 | H22: =SUM(H15:H21) -> 0 | I22: =SUM(I15:I21) -> 0 | J22: =SUM(J15:K21) -> 0
A24: Spending Plan
C25: Month 1 | D25: Month 2 | E25: Month 3 | F25: Month 4 | G25: Month 5 | H25: Month 6 | I25: Month 7 | J25: Month 8 | K25: Month 9
A27: PLAN FOR THE MONTH | C27: ='Spending Plan Wksheet (2)'!D20 -> 0 | D27: ='Spending Plan Wksheet (2)'!E20 -> 0 | E27: ='Spending Plan Wksheet (2)'!F20 -> 0 | F27: ='Spending Plan Wksheet (2)'!G20 -> 0 | G27: ='Spending Plan Wksheet (2)'!H20 -> 0 | H27: ='Spending Plan Wksheet (2)'!I20 -> 0 | I27: ='Spending Plan Wksheet (2)'!J20 -> 0 | J27: ='Spending Plan Wksheet (2)'!K20 -> 0 | K27: ='Spending Plan Wksheet (2)'!L20 -> 0
A28: TOTAL - CUMULATIVE | C28: ='Spending Plan Wksheet (2)'!D21 -> 0 | D28: ='Spending Plan Wksheet (2)'!E21 -> 0 | E28: ='Spending Plan Wksheet (2)'!F21 -> 0 | F28: ='Spending Plan Wksheet (2)'!G21 -> 0 | G28: ='Spending Plan Wksheet (2)'!H21 -> 0 | H28: ='Spending Plan Wksheet (2)'!I21 -> 0 | I28: ='Spending Plan Wksheet (2)'!J21 -> 0 | J28: ='Spending Plan Wksheet (2)'!K21 -> 0 | K28: ='Spending Plan Wksheet (2)'!L21 -> 0
C29: Month 10 | D29: Month 11 | E29: Month 12 | F29: Month 13 | G29: Month 14 | H29: Month 15 | K29: TOTAL
A31: PLAN FOR THE MONTH | C31: ='Spending Plan Wksheet (2)'!D32 -> 0 | D31: ='Spending Plan Wksheet (2)'!E32 -> 0 | E31: ='Spending Plan Wksheet (2)'!F32 -> 0 | K31: =SUM(C27:K27)+SUM(C31:J31) -> 0
A32: TOTAL - CUMULATIVE | C32: ='Spending Plan Wksheet (2)'!D33 -> 0 | D32: ='Spending Plan Wksheet (2)'!E33 -> 0 | E32: ='Spending Plan Wksheet (2)'!F33 -> 0
A33: BUDGET - STANDARD, Budget Summary (Rev - 6/16), City of Los Angeles, Economic and Workforce Development Department

Sheet Detail (2)
A1: B U D G E T D E T A I L
A2: Economic and Workforce Development Department, City of Los Angeles
A4: Contractor: | D4: Community Partners (on behalf of Los Angeles Food Policy Council)
A5: Contract No.: | D5: =Summary!B4 -> 0 | S5: Amendment No.: | T5: 0
A6: Program: | D6: Healthy Neighborhood Market Network Program | S6: Contract Period: | T6: 07/01/2022 - 6/30/2023
A7: Funding Stream (WIOA Youth): | D7: Community Development Block Grant (CDBG)
A8: Contract Amount: | D8: 480750
E10: ESTIMATED COSTS - BY LINE ITEM
F11: Breakdown by Store | U11: Grand
S12: Non-Federal | U12: Total
F13: La Vecina | G13: Greenhouse | H13: Toad's | I13: Harris Grocery | J13: La Suerte | K13: Watts Up | L13: 7&7 | M13: Perez Store | N13: Mealtime | O13: La Fortuna | P13: Central | Q13: Ray & Roy's | R13: Program | S13: Matching | T13: Leveraged | U13: Estimated
C14: Cost Category / Line Item | E14: Total | F14: Market | G14: Market | H14: Market | I14: Market | J14: Discount 99 | K14: Mini Market | L14: Market | M14: Now Mini Market | N14: Market | O14: Market | P14: Store | Q14: Market | R14: Income | S14: Share | T14: Resource | U14: Costs
E15: (A) | F15: (B ) | G15: (C) | H15: (D) | I15: (E) | J15: (F) | K15: (G) | L15: (H) | M15: (I) | N15: (J) | O15: (K) | P15: (L) | Q15: (M) | R15: (N) | S15: (O) | T15: (P) | U15: (Q)
E16: (B - M) | U16: (A + N + O + P)
A17: #1000 - PERSONNEL COSTS:
A18: SALARIES | E18: =SUM(F18:Q18) -> 0 | U18: =E18+R18+S18+T18 -> 0
A19: FRINGE BENEFITS | E19: =SUM(F19:Q19) -> 0 | U19: =E19+R19+S19+T19 -> 0
A20: SUBTOTAL: #1000 - PERSONNEL COSTS | E20: =SUM(E18:E19) -> 0 | F20: =SUM(F18:F19) -> 0 | G20: =SUM(G18:G19) -> 0 | H20: =SUM(H18:H19) -> 0 | I20: =SUM(I18:I19) -> 0 | J20: =SUM(J18:J19) -> 0 | K20: =SUM(K18:K19) -> 0 | L20: =SUM(L18:L19) -> 0 | ... U20: =SUM(U18:U19) -> 0
A21: #2000 - OTHER COSTS:
A22: Outreach | E22: =SUM(F22:Q22) -> 0 | U22: =E22+R22+S22+T22 -> 0
A23: Rent | E23: =SUM(F23:Q23) -> 0 | U23: =E23+R23+S23+T23 -> 0
A24: Software & Licensing | E24: =SUM(F24:Q24) -> 0 | U24: =E24+R24+S24+T24 -> 0
E25: =SUM(F25:Q25) -> 0 | U25: =E25+R25+S25+T25 -> 0
E26: =SUM(F26:Q26) -> 0 | U26: =E26+R26+S26+T26 -> 0
E27: =SUM(F27:Q27) -> 0 | U27: =E27+R27+S27+T27 -> 0
E28: =SUM(F28:Q28) -> 0 | U28: =E28+R28+S28+T28 -> 0
E29: =SUM(F29:Q29) -> 0 | U29: =E29+R29+S29+T29 -> 0
E30: =SUM(F30:Q30) -> 0 | U30: =E30+R30+S30+T30 -> 0
A31: SUBTOTAL: #2000 - OTHER COSTS | E31: =SUM(E22:E30) -> 0 | F31: =SUM(F22:F30) -> 0 | G31: =SUM(G22:G30) -> 0 | H31: =SUM(H22:H30) -> 0 | I31: =SUM(I22:I30) -> 0 | J31: =SUM(J22:J30) -> 0 | K31: =SUM(K22:K30) -> 0 | L31: =SUM(L22:L30) -> 0 | ... U31: =SUM(U22:U30) -> 0
A32: #2100 - PARTICIPANT-RELATED COSTS:
A33: Program Supplies | E33: =SUM(F33:Q33) -> 0 | U33: =E33+R33+S33+T33 -> 0
E34: =SUM(F34:Q34) -> 0 | U34: =E34+R34+S34+T34 -> 0
A35: SUBTOTAL: #2100 - PARTICIPANT-RELATED COSTS | E35: =SUM(E33:E34) -> 0 | F35: =SUM(F33:F34) -> 0 | G35: =SUM(G33:G34) -> 0 | H35: =SUM(H33:H34) -> 0 | I35: =SUM(I33:I34) -> 0 | J35: =SUM(J33:J34) -> 0 | K35: =SUM(K33:K34) -> 0 | L35: =SUM(L33:L34) -> 0 | ... U35: =SUM(U33:U34) -> 0
A36: #2200 - SUBCONTRACTOR COSTS:
A37: Contract & Professional Services | E37: =SUM(F37:Q37) -> 0 | U37: =E37+R37+S37+T37 -> 0
E38: =SUM(F38:Q38) -> 0 | U38: =E38+R38+S38+T38 -> 0
A39: SUBTOTAL: #2200 - SUBCONTRACTOR COSTS | E39: =SUM(E37:E38) -> 0 | F39: =SUM(F37:F38) -> 0 | G39: =SUM(G37:G38) -> 0 | H39: =SUM(H37:H38) -> 0 | I39: =SUM(I37:I38) -> 0 | J39: =SUM(J37:J38) -> 0 | K39: =SUM(K37:K38) -> 0 | L39: =SUM(L37:L38) -> 0 | ... U39: =SUM(U37:U38) -> 0
A40: #3000 - FURNITURE & EQUIPMENT COSTS:
E41: =SUM(F41:Q41) -> 0 | U41: =E41+R41+S41+T41 -> 0
E42: =SUM(F42:Q42) -> 0 | U42: =E42+R42+S42+T42 -> 0
...

Sheet Sched of Personnel
A1: SCHEDULE OF PERSONNEL COSTS
A2: Economic and Workforce Development Department, City of Los Angeles
A4: Contractor: | C4: =Summary!B3 -> Community Partners for Los Angeles Food Policy Council
A5: Contract No.: | C5: =Summary!B4 -> 0 | J5: Amendment No.: | K5: 0
A6: Program: | C6: =Summary!B5 -> Healthy Markets LA Program | J6: Contract Period: | K6: =Summary!G6 -> 10/01/2026 - 9/30/2027
A7: Funding Stream (WIOA Youth): | C7: ='Detail (2)'!D7 -> Community Development Block Grant (CDBG)
A8: Contract Amount: | C8: =Summary!B7 -> 500000
G11: ESTIMATED COSTS - BY LINE ITEM
G12: City of LA Share | M12: Grand
K13: Non-Federal | M13: Total
A14: Job Title | C14: Employee Name | D14: Month | E14: % of | F14: # of | G14: Total | J14: Program | K14: Matching | L14: Leveraged | M14: Estimated
A15: (One Line per Employee) | D15: Salary | E15: Time | F15: Months | G15: City | H15: Admin | I15: Program | J15: Income | K15: Share | L15: Resource | M15: Costs
B16: (A) | C16: (B) | D16: (C ) | E16: (D) | G16: (F) | H16: (G) | I16: (H) | J16: (I) | K16: (J) | L16: (K) | M16: (L)
G17: (G + H) | M17: (F + I + J + K)
A18: A. SALARIES:
G19: =H19+I19 -> 0 | I19: =SUM(D19*E19*F19) -> 0 | M19: =G19+J19+K19+L19 -> 0
G20: =H20+I20 -> 0 | I20: =SUM(D20*E20*F20) -> 0 | M20: =G20+J20+K20+L20 -> 0
G21: =I21 -> 0 | I21: =SUM(D21*E21*F21) -> 0 | M21: =G21+J21+K21+L21 -> 0
G22: =H22+I22 -> 0 | I22: =SUM(D22*E22*F22) -> 0 | M22: =G22+J22+K22+L22 -> 0
G23: =H23+I23 -> 0 | I23: =SUM(D23*E23*F23) -> 0 | M23: =G23+J23+K23+L23 -> 0
G24: =SUM(H24+I24) -> 0 | I24: =SUM(D24*E24*F24) -> 0 | M24: =G24+J24+K24+L24 -> 0
G25: =H25+I25 -> 0 | I25: =SUM(D25*E25*F25) -> 0 | M25: =G25+J25+K25+L25 -> 0
G26: =H26+I26 -> 0 | I26: =SUM(D26*E26*F26) -> 0 | M26: =G26+J26+K26+L26 -> 0
G27: =H27+I27 -> 0 | I27: =SUM(D27*E27*F27) -> 0 | M27: =G27+J27+K27+L27 -> 0
G28: =H28+I28 -> 0 | I28: =SUM(D28*E28*F28) -> 0 | M28: =G28+J28+K28+L28 -> 0
G29: =H29+I29 -> 0 | I29: =SUM(D29*E29*F29) -> 0 | M29: =G29+J29+K29+L29 -> 0
G30: =H30+I30 -> 0 | I30: =SUM(D30*E30*F30) -> 0 | M30: =G30+J30+K30+L30 -> 0
G31: =H31+I31 -> 0 | I31: =SUM(D31*E31*F31) -> 0 | M31: =G31+J31+K31+L31 -> 0
G32: =H32+I32 -> 0 | I32: =SUM(D32*E32*F32) -> 0 | M32: =G32+J32+K32+L32 -> 0
G33: =H33+I33 -> 0 | I33: =SUM(D33*E33*F33) -> 0 | M33: =G33+J33+K33+L33 -> 0
G34: =H34+I34 -> 0 | I34: =SUM(D34*E34*F34) -> 0 | M34: =G34+J34+K34+L34 -> 0
B35: SUBTOTAL: SALARIES | G35: =SUM(G19:G34) -> 0 | H35: =SUM(H19:H28) -> 0 | I35: =SUM(I19:I28) -> 0 | J35: =SUM(J19:J34) -> 0 | K35: =SUM(K19:K34) -> 0 | L35: =SUM(L19:L34) -> 0 | M35: =SUM(M19:M28) -> 0 | O35: =M35*0.23 -> 0
A36: B. FRINGE BENEFITS: | F36: % to Total Salaries
A37: FICA | G37: =$G$35*F37 -> 0 | M37: =G37+J37+K37+L37 -> 0
A38: HEALTH | G38: =$G$35*F38 -> 0 | M38: =G38+J38+K38+L38 -> 0
A39: SUI | G39: =$G$35*F39 -> 0 | M39: =G39+J39+K39+L39 -> 0
A40: WORKERS' COMPENSATION | G40: =$G$35*F40 -> 0 | M40: =G40+J40+K40+L40 -> 0
A41: RETIREMENT | G41: =H41+I41 -> 0 | M41: =G41+J41+K41+L41 -> 0
A42: OTHERS | G42: =H42+I42 -> 0 | M42: =G42+J42+K42+L42 -> 0
G43: =H43+I43 -> 0 | M43: =G43+J43+K43+L43 -> 0
...

Sheet Spending Plan Wksheet (2)
A1: SPENDING PLAN WORKSHEET
A2: Economic and Workforce Development Department, City of Los Angeles
A4: Contractor: | C4: =Summary!B3 -> Community Partners for Los Angeles Food Policy Council
A5: Contract No.: | C5: =Summary!B4 -> 0 | J5: Amendment No.: | K5: 0
A6: Program: | C6: =Summary!B5 -> Healthy Markets LA Program | J6: Contract Period: | K6: =Summary!G6 -> 10/01/2026 - 9/30/2027
A7: Funding Stream (CDBG): | C7: =Summary!B6 -> Community Development Block Grant (CDBG)
A8: Contract Amount: | C8: =Summary!B7 -> 500000
A11: Cost Classification | D11: Month 1 | E11: Month 2 | F11: Month 3 | G11: Month 4 | H11: Month 5 | I11: Month 6 | J11: Month 7 | K11: Month 8 | L11: Month 9
A12: No. | B12: Name
A13: 1000 | B13: PERSONNEL COSTS | D13: =Summary!D15/12 -> 0 | E13: =$D$13 -> 0 | F13: =$D$13 -> 0 | G13: =$D$13 -> 0 | H13: =$D$13 -> 0 | I13: =$D$13 -> 0 | J13: =$D$13 -> 0 | K13: =$D$13 -> 0 | L13: =$D$13 -> 0
A14: 2000 | B14: OTHER COSTS | D14: =Summary!D16/12 -> 0 | E14: =$D$14 -> 0 | F14: =$D$14 -> 0 | G14: =$D$14 -> 0 | H14: =$D$14 -> 0 | I14: =$D$14 -> 0 | J14: =$D$14 -> 0 | K14: =$D$14 -> 0 | L14: =$D$14 -> 0
A15: 2100 | B15: PARTICIPANT-RELATED COSTS | D15: =Summary!D17/12 -> 0 | E15: =$D$15 -> 0 | F15: =$D$15 -> 0 | G15: =$D$15 -> 0 | H15: =$D$15 -> 0 | I15: =$D$15 -> 0 | J15: =$D$15 -> 0 | K15: =$D$15 -> 0 | L15: =$D$15 -> 0
A16: 2200 | B16: SUBCONTRACTOR(S) COSTS | D16: =Summary!D18/12 -> 0 | E16: =$D$16 -> 0 | F16: =$D$16 -> 0 | G16: =$D$16 -> 0 | H16: =$D$16 -> 0 | I16: =$D$16 -> 0 | J16: =$D$16 -> 0 | K16: =$D$16 -> 0 | L16: =$D$16 -> 0
A17: 3000 | B17: FURNITURE & EQUIPMENT COSTS | D17: =Summary!D19/12 -> 0 | E17: =$D$17 -> 0 | F17: =$D$17 -> 0 | G17: =$D$17 -> 0 | H17: =$D$17 -> 0 | I17: =$D$17 -> 0 | J17: =$D$17 -> 0 | K17: =$D$17 -> 0 | L17: =$D$17 -> 0
A18: 4000 | B18: INDIRECT COSTS | D18: =Summary!D20/12 -> 0 | E18: =$D$18 -> 0 | F18: =$D$18 -> 0 | G18: =$D$18 -> 0 | H18: =$D$18 -> 0 | I18: =$D$18 -> 0 | J18: =$D$18 -> 0 | K18: =$D$18 -> 0 | L18: =$D$18 -> 0
A19: 5000 | B19: CAPITAL COSTS | D19: =Summary!D21/12 -> 0 | E19: =$D$19 -> 0 | F19: =$D$19 -> 0 | G19: =$D$19 -> 0 | H19: =$D$19 -> 0 | I19: =$D$19 -> 0 | J19: =$D$19 -> 0 | K19: =$D$19 -> 0 | L19: =$D$19 -> 0
A20: TOTAL PLAN FOR THE MONTH | D20: =SUM(D13:D19) -> 0 | E20: =SUM(E13:E19) -> 0 | F20: =SUM(F13:F19) -> 0 | G20: =SUM(G13:G19) -> 0 | H20: =SUM(H13:H19) -> 0 | I20: =SUM(I13:I19) -> 0 | J20: =SUM(J13:J19) -> 0 | K20: =SUM(K13:K19) -> 0 | L20: =SUM(L13:L19) -> 0
A21: TOTAL - CUMULATIVE | D21: =D20 -> 0 | E21: =D21+E20 -> 0 | F21: =E21+F20 -> 0 | G21: =F21+G20 -> 0 | H21: =G21+H20 -> 0 | I21: =H21+I20 -> 0 | J21: =I21+J20 -> 0 | K21: =J21+K20 -> 0 | L21: =K21+L20 -> 0
A23: Cost Classification | D23: Month 10 | E23: Month 11 | F23: Month 12 | L23: Total
A24: No. | B24: Name
A25: 1000 | B25: PERSONNEL COSTS | D25: =$D$13 -> 0 | E25: =$D$13 -> 0 | F25: =$D$13 -> 0 | L25: =SUM(D13:L13)+SUM(D25:I25) -> 0
A26: 2000 | B26: OTHER COSTS | D26: =$D$14 -> 0 | E26: =$D$14 -> 0 | F26: =$D$14 -> 0 | L26: =SUM(D14:L14)+SUM(D26:I26) -> 0
A27: 2100 | B27: PARTICIPANT-RELATED COSTS | D27: =$D$15 -> 0 | E27: =$D$15 -> 0 | F27: =$D$15 -> 0 | L27: =SUM(D15:L15)+SUM(D27:I27) -> 0
A28: 2200 | B28: SUBCONTRACTOR(S) COSTS | D28: =$D$16 -> 0 | E28: =$D$16 -> 0 | F28: =$D$16 -> 0 | L28: =SUM(D16:L16)+SUM(D28:I28) -> 0
A29: 3000 | B29: FURNITURE & EQUIPMENT COSTS | D29: =$D$17 -> 0 | E29: =$D$17 -> 0 | F29: =$D$17 -> 0 | L29: =SUM(D17:L17)+SUM(D29:I29) -> 0
A30: 4000 | B30: INDIRECT COSTS | D30: =$D$18 -> 0 | E30: =$D$18 -> 0 | F30: =$D$18 -> 0 | L30: =SUM(D18:L18)+SUM(D30:I30) -> 0
A31: 5000 | B31: CAPITAL COSTS | D31: =$D$19 -> 0 | E31: =$D$19 -> 0 | F31: =$D$19 -> 0 | L31: =SUM(D19:L19)+SUM(D31:I31) -> 0
A32: TOTAL PLAN FOR THE MONTH | D32: =SUM(D25:D31) -> 0 | E32: =SUM(E25:E31) -> 0 | F32: =SUM(F25:F31) -> 0 | G32: =SUM(G25:G31) -> 0 | H32: =SUM(H25:H31) -> 0 | I32: =SUM(I25:I31) -> 0 | L32: =SUM(L25:L31) -> 0
A33: TOTAL - CUMULATIVE | D33: =L21+D32 -> 0 | E33: =D33+E32 -> 0 | F33: =E33+F32 -> 0 | G33: =O21+G32 -> 0 | H33: =G33+H32 -> 0 | I33: =H33+I32 -> 0
A34: BUDGET - STANDARD, Spending Plan Worksheet (Rev. July 2018), City of Los Angeles, Economic and Workforce Development Department

Sheet Narrative (2)
A1: NARRATIVE WORKSHEET FOR PROPOSED BUDGET
A2: Agency: | E2: Community Partners on behalf of Los Angeles Food Policy Council
A3: Contact Name (include phone number and email address): | E3: Alba Velasquez, Program Director :Tel 213-473-3539, email: avelasquez@goodfoodla.org
A4: A | C4: B | D4: C | E4: D | F4: F | G4: G | H4: H | I4: I | J4: H
A5: COST CATEGORY/LINE ITEM | C5: 2023-2024 Approved Budget | E5: Proposed 2024-2025 Budget | G5: Variance Between Years (E-C) | H5: % of Change | I5: NARRATIVE EXPLANATION OF PROPOSED PY 24-25 FUNDING LEVEL
C6: Budgeted Amount | D6: Line Item as % of Total Budget | E6: Proposed Amount | F6: Line Item as % of Total Budget | J6: Budget Analyst Response
A7: #1000 Personnel Costs
A8: Salaries | D8: =C8/$C$30 -> 0 | E8: ='Detail (2)'!E18 -> 0 | F8: =E8/$E$30 -> #DIV/0! | G8: =E8-C8 -> 0 | H8: =(E8-C8)/C8 -> #DIV/0!
A9: Fringe Benefits | D9: =C9/$C$30 -> 0 | E9: ='Detail (2)'!E19 -> 0 | F9: =E9/$E$30 -> #DIV/0! | G9: =E9-C9 -> 0 | H9: =(E9-C9)/C9 -> #DIV/0!
A10: #2000 - OTHER COSTS:
A11: ='Detail (2)'!A22 -> Outreach | D11: =C11/$C$30 -> 0 | E11: ='Detail (2)'!E22 -> 0 | F11: =E11/$E$30 -> #DIV/0! | G11: =E11-C11 -> 0 | H11: =(E11-C11)/C11 -> #DIV/0!
A12: ='Detail (2)'!A23 -> Rent | D12: =C12/$C$30 -> 0 | E12: ='Detail (2)'!E23 -> 0 | F12: =E12/$E$30 -> #DIV/0! | G12: =E12-C12 -> 0 | H12: =(E12-C12)/C12 -> #DIV/0!
A13: ='Detail (2)'!A24 -> Software & Licensing | D13: =C13/$C$30 -> 0 | E13: ='Detail (2)'!E24 -> 0 | F13: =E13/$E$30 -> #DIV/0! | G13: =E13-C13 -> 0 | H13: =(E13-C13)/C13 -> #DIV/0!
A14: ='Detail (2)'!A25 -> 0 | D14: =C14/$C$30 -> 0 | E14: ='Detail (2)'!E25 -> 0 | F14: =E14/$E$30 -> #DIV/0! | G14: =E14-C14 -> 0 | H14: =(E14-C14)/C14 -> #DIV/0!
A15: ='Detail (2)'!A26 -> 0 | D15: =C15/$C$30 -> 0 | E15: ='Detail (2)'!E26 -> 0 | F15: =E15/$E$30 -> #DIV/0! | G15: =E15-C15 -> 0 | H15: =(E15-C15)/C15 -> #DIV/0!
A16: ='Detail (2)'!A27 -> 0 | D16: =C16/$C$30 -> 0 | E16: ='Detail (2)'!E27 -> 0 | F16: =E16/$E$30 -> #DIV/0! | G16: =E16-C16 -> 0 | H16: =(E16-C16)/C16 -> #DIV/0!
A17: ='Detail (2)'!A28 -> 0 | D17: =C17/$C$30 -> 0 | E17: ='Detail (2)'!E28 -> 0 | F17: =E17/$E$30 -> #DIV/0! | G17: =E17-C17 -> 0 | H17: =(E17-C17)/C17 -> #DIV/0!
A18: ='Detail (2)'!A29 -> 0 | D18: =C18/$C$30 -> 0 | E18: ='Detail (2)'!E29 -> 0 | F18: =E18/$E$30 -> #DIV/0! | G18: =E18-C18 -> 0 | H18: =(E18-C18)/C18 -> #DIV/0!
A19: ='Detail (2)'!A30 -> 0 | D19: =C19/$C$30 -> 0 | E19: ='Detail (2)'!E26 -> 0 | F19: =E19/$E$30 -> #DIV/0! | G19: =E19-C19 -> 0 | H19: =(E19-C19)/C19 -> #DIV/0!
A20: #2100 Participant-Related Costs
A21: ='Detail (2)'!A33 -> Program Supplies | D21: =C21/$C$30 -> 0 | E21: ='Detail (2)'!E33 -> 0 | F21: =E21/$E$30 -> #DIV/0! | G21: =E21-C21 -> 0 | H21: =(E21-C21)/C21 -> #DIV/0!
A22: #2200 Subcontractor Costs
A23: ='Detail (2)'!A37 -> Contract & Professional Services | D23: =C23/$C$30 -> 0 | E23: ='Detail (2)'!E37 -> 0 | F23: =E23/$E$30 -> #DIV/0! | G23: =E23-C23 -> 0 | H23: =(E23-C23)/C23 -> #DIV/0!
A24: #3000 Furniture and Equipment
D25: =C25/$C$30 -> 0 | E25: ='Detail (2)'!E42 -> 0 | F25: =E25/$E$30 -> #DIV/0! | G25: =E25-C25 -> 0 | H25: =(E25-C25)/C25 -> #DIV/0!
A26: #4000 Indirect Costs
A27: ='Detail (2)'!A45 -> Fiscal sponsor indirect cost rate: % | D27: =C27/$C$30 -> 0 | E27: ='Detail (2)'!E45 -> 0 | F27: =E27/$E$30 -> #DIV/0! | G27: =E27-C27 -> 0 | H27: =(E27-C27)/C27 -> #DIV/0!
A28: #5000 Capital Costs
A30: Total Contract Award | C30: 480750 | D30: =SUM(D8:D29) -> 0 | E30: =SUM(E8:E29) -> 0 | F30: =E30/$E$30 -> #DIV/0! | G30: =E30-C30 -> -480750 | H30: =C30/E30 -> #DIV/0!
